BEGIN:VCALENDAR
VERSION:2.0
PRODID:-//Kamo Sutra//Events//EN
CALSCALE:GREGORIAN
METHOD:PUBLISH
BEGIN:VEVENT
DTSTART:20260730T200000
DTEND:20260730T220000
DTSTAMP:20260419T160705
UID:69e4fda9ee141@kamosutra.ba
SUMMARY:Aca Lukas u Travniku
DESCRIPTION:Koncert Ace Lukasa održat će se 30.07.2026. godine u 20 sati na lokaciji Plato Gimnazije, Travnik, u sklopu 8. Travnik Summer Festa. Kao predgrupa nastupit će Nature orchestra, koji tradicionalno nastupaju na TSF-u. Ulaznice su u prodaji putem Event.ba. Cijene ulaznica su: VIP 50 KM i Parter 30 KM. Kupovinom VIP ulaznice osiguravate mjesto uz binu, stol za piće i uslugu konobara, a pri dolasku će vas hostese odvesti na vaše mjesto.
LOCATION:Plato Gimnazije, Travnik, Travnik
STATUS:CONFIRMED
SEQUENCE:0
END:VEVENT
END:VCALENDAR
