BEGIN:VCALENDAR
VERSION:2.0
PRODID:-//Kamo Sutra//Events//EN
CALSCALE:GREGORIAN
METHOD:PUBLISH
BEGIN:VEVENT
DTSTART:20260424T210000
DTEND:20260424T230000
DTSTAMP:20260421T124858
UID:69e7723a7f7fd@kamosutra.ba
SUMMARY:B.GOOD x N3M4N u Hemingway’s
DESCRIPTION:U petak, 24. aprila 2026. u Hemingway’s Baru Sarajevo nastupaju B.GOOD i N3M4N. Večer je posvećena dobroj muzici i klupskoj atmosferi, uz energičan set koji traje do kasno. Početak događaja je u 21:00.
LOCATION:Hemingway’s Bar Sarajevo, Sarajevo
STATUS:CONFIRMED
SEQUENCE:0
END:VEVENT
END:VCALENDAR
