BEGIN:VCALENDAR
VERSION:2.0
PRODID:-//Kamo Sutra//Events//EN
CALSCALE:GREGORIAN
METHOD:PUBLISH
BEGIN:VEVENT
DTSTART:20260612T080000
DTEND:20260612T100000
DTSTAMP:20260421T125201
UID:69e772f185b98@kamosutra.ba
SUMMARY:B-HARD Ultra Race & Brevet 2026
DESCRIPTION:B-HARD Ultra Race & Brevet 2026 je jedinstven biciklistički izazov koji okuplja zaljubljenike u dugoprugaško bicikliranje iz cijelog svijeta. Ovaj ultramaraton dužine preko 1200 km vodi učesnike kroz najspektakularnije pejzaže Bosne i Hercegovine, nudeći nezaboravno iskustvo putovanja i ličnog izazova. Start i cilj su u Banjoj Luci, a trasa obuhvata neke od najljepših planinskih, riječnih i seoskih predjela regije. Događaj počinje u petak, 12. juna 2026. godine u 08:00 časova. Namijenjen je iskusnim biciklistima koji su spremni testirati svoje granice i sposobnosti u samoodrživom formatu, bez pratnje i vanjske pomoći. Učesnici moraju poštovati vremenske limite i pratiti zadanu rutu koristeći GPS uređaje. Osim trke, B-HARD ova manifestacija promoviše i odgovorni turizam, zdrav način života, fizičku aktivnost te kulturnu baštinu Bosne i Hercegovine. Organizatori posebnu pažnju posvećuju sigurnosti, logistici i podršci takmičarima. B-HARD Ultra Race & Brevet 2026 je više od sportske manifestacije — to je zajednica strasti, izdržljivosti i autentičnog doživljaja prirode i ljudi. Bilo da ste veteran ultradistanci ili neko ko žudi da napravi veliki korak iz zone komfora, ovaj događaj pruža priliku da se povežete sa sobom i drugima kroz jedno epsko putovanje.
LOCATION:Banja Luka - Бања Лука, Banja Luka
STATUS:CONFIRMED
SEQUENCE:0
END:VEVENT
END:VCALENDAR
