BEGIN:VCALENDAR
VERSION:2.0
PRODID:-//Kamo Sutra//Events//EN
CALSCALE:GREGORIAN
METHOD:PUBLISH
BEGIN:VEVENT
DTSTART:20260429T193000
DTEND:20260429T213000
DTSTAMP:20260423T152852
UID:69ea3ab41d471@kamosutra.ba
SUMMARY:Cavalleria rusticana; Gianni Schicchi
DESCRIPTION:U Narodnom pozorištu Sarajevo, 29.04.2026. godine, na repertoaru je operna večer pod naslovom "Cavalleria rusticana; Gianni Schicchi". "Cavalleria rusticana" je veristička opera u jednom činu kompozitora Pietra Mascagnija, dok je "Gianni Schicchi" komična opera u jednom činu Giacoma Puccinija. Premijera je zakazana za 29. april 2026. godine u Narodnom pozorištu Sarajevo.
LOCATION:Narodno pozorište Sarajevo, Sarajevo
STATUS:CONFIRMED
SEQUENCE:0
END:VEVENT
END:VCALENDAR
