BEGIN:VCALENDAR
VERSION:2.0
PRODID:-//Kamo Sutra//Events//EN
CALSCALE:GREGORIAN
METHOD:PUBLISH
BEGIN:VEVENT
DTSTART:20260428T193000
DTEND:20260428T213000
DTSTAMP:20260419T155040
UID:69e4f9d0190a3@kamosutra.ba
SUMMARY:Cavalleria rusticana; Gianni Schicchi
DESCRIPTION:U Narodnom pozorištu Sarajevo najavljena je operna večer pod naslovom "Cavalleria rusticana; Gianni Schicchi". Na programu su dvije opere u jednom činu: "Cavalleria rusticana", veristička opera Pietra Mascagnija, te "Gianni Schicchi", komična opera Giacoma Puccinija. Premijera je zakazana za 29. april 2026. godine, a najava je objavljena 28.04.2026. Događaj donosi spoj dramskog verizma i komične opere u izvedbi na sceni Narodnog pozorišta Sarajevo.
LOCATION:Narodno pozorište Sarajevo, Sarajevo
STATUS:CONFIRMED
SEQUENCE:0
END:VEVENT
END:VCALENDAR
