BEGIN:VCALENDAR
VERSION:2.0
PRODID:-//Kamo Sutra//Events//EN
CALSCALE:GREGORIAN
METHOD:PUBLISH
BEGIN:VEVENT
DTSTART:20260429T200000
DTEND:20260429T220000
DTSTAMP:20260423T134829
UID:69ea232d85df8@kamosutra.ba
SUMMARY:Crnogorac u krevetu
DESCRIPTION:Predstava 'Crnogorac u krevetu' je hit komedija koja se igra u Domu mladih u Sarajevu. Autor Peđa Šuškavčević i glumci Peđa Šuškavčević i Ana Šimundža Selski donose 90 minuta vrhunske zabave. Ova predstava, koja je postala sinonim za dobru komediju, prikazuje crnogorski način života kroz humor i stereotipe. Ulaznice se rasprodaju u rekordnom roku, a publika reaguje s oduševljenjem. Ne propustite priliku da se nasmijete do suza!
LOCATION:Dom mladih , Sarajevo, Sarajevo
STATUS:CONFIRMED
SEQUENCE:0
END:VEVENT
END:VCALENDAR
