BEGIN:VCALENDAR
VERSION:2.0
PRODID:-//Kamo Sutra//Events//EN
CALSCALE:GREGORIAN
METHOD:PUBLISH
BEGIN:VEVENT
DTSTART:20260512T190000
DTEND:20260512T210000
DTSTAMP:20260421T130103
UID:69e7750f63d05@kamosutra.ba
SUMMARY:DRAGAN MARINKOVIĆ MACA - LAJFKOUČ.BA - BIJELJINA 12/05
DESCRIPTION:Monodrama „Lajfkouč.ba“ Dragana Marinkovića Mace stiže u Bijeljinu u sklopu prve BH turneje. Predstava će biti izvedena 12.05.2026. u Centru za kulturu Semberija (CENTAR ZA KULTURU SEMBERIJA). \n\n„Lajf Kouč“ je snažna, brutalno iskrena monodrama koja bez zadrške secira savremeno društvo. Kroz humor koji boli i riječi koje režu, publiku vodi od smijeha do tišine, od ironije do samopreispitivanja. Predstava je istovremeno gorki smijeh i topla suza, dijagnoza našeg vremena i poziv na buđenje.\n\nAutor i izvođač ne nudi gotova rješenja, već „ogledalo“ u kojem se prepoznajemo svi: smijeh koji se pretvara u stid i suza koja oslobađa. „Lajf Kouč“ ne miluje – ona udara, provocira, razbija iluzije i postavlja pitanje dokle ćemo trpjeti „cirkus“ koji zovemo život. Karte su dostupne na biletarnicama gdje se predstava igra i putem sistema kupikartu.ba.
LOCATION:CENTAR ZA KULTURU SEMBERIJA, Bijeljina
STATUS:CONFIRMED
SEQUENCE:0
END:VEVENT
END:VCALENDAR
