BEGIN:VCALENDAR
VERSION:2.0
PRODID:-//Kamo Sutra//Events//EN
CALSCALE:GREGORIAN
METHOD:PUBLISH
BEGIN:VEVENT
DTSTART:20260410T200000
DTEND:20260410T220000
DTSTAMP:20260419T170205
UID:69e50a8d6ec42@kamosutra.ba
SUMMARY:Dursum Design
DESCRIPTION:Događaj „Dursum Design“ održava se 10.04.2026. u Narodnom pozorištu Sarajevo i posvećen je predstavljanju knjige autora Branka Dursuma. Knjiga je zamišljena kao cjelina koja zaokružuje autorovu karijeru kroz dokumente i radove primijenjene umjetnosti, uključujući plakate, pozivnice i dizajn teatarskog karaktera, te pokazuje kako se unutar „dokumenta“ može ostvariti umjetnički čin. Program naglašava Dursumovu trajnu prisutnost u bosanskohercegovačkoj likovnoj i primijenjenoj umjetnosti i ideju knjige kao svjedočanstva o vremenu i kontinuitetu stvaranja. U sklopu najave istaknuta je podrška zlatnih sponzora monografije: BH Telecoma i Audija Bosna i Hercegovina.
LOCATION:Narodno pozorište Sarajevo, Sarajevo
STATUS:CONFIRMED
SEQUENCE:0
END:VEVENT
END:VCALENDAR
