BEGIN:VCALENDAR
VERSION:2.0
PRODID:-//Kamo Sutra//Events//EN
CALSCALE:GREGORIAN
METHOD:PUBLISH
BEGIN:VEVENT
DTSTART:20260528T200000
DTEND:20260528T220000
DTSTAMP:20260421T110505
UID:69e759e1570b9@kamosutra.ba
SUMMARY:ENIS BEŠLAGIĆ - DA SAM JA NEKO :: ZENICA 28/05
DESCRIPTION:Predstava „Da sam ja neko“ Enisa Bešlagića bit će izvedena 28.05.2026. u BNP Zenica u Zenici. Riječ je o autorskoj i autobiografskoj priči koja kroz iskrenu emociju, humor i životne situacije donosi univerzalnu poruku ljubavi, nade i ljudskosti. Program je zamišljen kao emotivno iskustvo koje publiku vodi kroz različita raspoloženja, a predstava je preporučena za cijelu porodicu i pogodna za sve uzraste. U sklopu događaja spominje se i mogućnost nagrade „Enisov NAJSMIJEH“ za publiku, kao dodatni element interakcije i posebnog doživljaja večeri.
LOCATION:BNP ZENICA, Zenica
STATUS:CONFIRMED
SEQUENCE:0
END:VEVENT
END:VCALENDAR
