BEGIN:VCALENDAR
VERSION:2.0
PRODID:-//Kamo Sutra//Events//EN
CALSCALE:GREGORIAN
METHOD:PUBLISH
BEGIN:VEVENT
DTSTART:20260425T140000
DTEND:20260425T160000
DTSTAMP:20260419T153557
UID:69e4f65decac4@kamosutra.ba
SUMMARY:FK Borac Banja Luka - FK Sloga Doboj
DESCRIPTION:FK Borac Banja Luka će se suočiti sa FK Sloga Doboj na gradskom stadionu u Banja Luci. Ovaj sportski događaj se održava 25. aprila 2026. godine. Očekuje se uzbudljiva utakmica između dva tima koja će privući mnoge navijače. Navijači će imati priliku da uživaju u vrhunskom fudbalu i podrže svoje omiljene ekipe.
LOCATION:Banja Luka City Stadium, Banja Luka
STATUS:CONFIRMED
SEQUENCE:0
END:VEVENT
END:VCALENDAR
