BEGIN:VCALENDAR
VERSION:2.0
PRODID:-//Kamo Sutra//Events//EN
CALSCALE:GREGORIAN
METHOD:PUBLISH
BEGIN:VEVENT
DTSTART:20260524T140000
DTEND:20260524T160000
DTSTAMP:20260421T130108
UID:69e77514bf710@kamosutra.ba
SUMMARY:FK Radnik Bijeljina - FK Borac Banja Luka
DESCRIPTION:FK Radnik Bijeljina će se suočiti sa FK Borac Banja Luka na stadionu u Bijeljini. Ovaj susret se očekuje s velikim uzbuđenjem među navijačima oba tima. Utakmica će se odigrati 24.05.2026. godine, a ljubitelji sporta će imati priliku uživati u uzbudljivom nogometnom spektaklu.
LOCATION:Bijeljina City Stadium, Bijeljina
STATUS:CONFIRMED
SEQUENCE:0
END:VEVENT
END:VCALENDAR
