BEGIN:VCALENDAR
VERSION:2.0
PRODID:-//Kamo Sutra//Events//EN
CALSCALE:GREGORIAN
METHOD:PUBLISH
BEGIN:VEVENT
DTSTART:20260425T140000
DTEND:20260425T160000
DTSTAMP:20260421T125547
UID:69e773d30ec28@kamosutra.ba
SUMMARY:FK Radnik Bijeljina - FK Rudar Prijedor
DESCRIPTION:FK Radnik Bijeljina će se suočiti sa FK Rudar Prijedor na stadionu u Bijeljini. Ovaj susret se očekuje s velikim interesovanjem, jer oba tima teže ka pobjedi i osvojenim bodovima. Utakmica će se održati 25. aprila 2026. godine.
LOCATION:Bijeljina City Stadium, Bijeljina
STATUS:CONFIRMED
SEQUENCE:0
END:VEVENT
END:VCALENDAR
