BEGIN:VCALENDAR
VERSION:2.0
PRODID:-//Kamo Sutra//Events//EN
CALSCALE:GREGORIAN
METHOD:PUBLISH
BEGIN:VEVENT
DTSTART:20260418T140000
DTEND:20260418T160000
DTSTAMP:20260421T111912
UID:69e75d305e56d@kamosutra.ba
SUMMARY:FK Radnik Bijeljina - FK Sarajevo
DESCRIPTION:FK Radnik Bijeljina će se suočiti sa FK Sarajevo na stadionu u Bijeljini. Ovaj sportski događaj će se održati 18. aprila 2026. godine i očekuje se velika posjećenost navijača oba tima. Utakmica će biti važna za obje ekipe u borbi za bodove u prvenstvu.
LOCATION:Bijeljina City Stadium, Bijeljina
STATUS:CONFIRMED
SEQUENCE:0
END:VEVENT
END:VCALENDAR
