BEGIN:VCALENDAR
VERSION:2.0
PRODID:-//Kamo Sutra//Events//EN
CALSCALE:GREGORIAN
METHOD:PUBLISH
BEGIN:VEVENT
DTSTART:20260509T140000
DTEND:20260509T160000
DTSTAMP:20260421T131149
UID:69e777956aae6@kamosutra.ba
SUMMARY:FK Radnik Bijeljina - HŠK Zrinjski Mostar
DESCRIPTION:FK Radnik Bijeljina će se suočiti sa HŠK Zrinjski Mostar na stadionu u Bijeljini. Ovaj susret obećava uzbudljivu utakmicu između dva tima koja se bore za vrh tabele. Navijači će imati priliku uživati u kvalitetnom fudbalu i podržati svoje omiljene ekipe.
LOCATION:Bijeljina City Stadium, Bijeljina
STATUS:CONFIRMED
SEQUENCE:0
END:VEVENT
END:VCALENDAR
