BEGIN:VCALENDAR
VERSION:2.0
PRODID:-//Kamo Sutra//Events//EN
CALSCALE:GREGORIAN
METHOD:PUBLISH
BEGIN:VEVENT
DTSTART:20260509T140000
DTEND:20260509T160000
DTSTAMP:20260419T191709
UID:69e52a35eda56@kamosutra.ba
SUMMARY:FK Rudar Prijedor - FK Sarajevo
DESCRIPTION:FK Rudar Prijedor dočekuje FK Sarajevo na Gradskom stadionu u Prijedoru. Ovaj susret se održava 09.05.2026. godine i predstavlja važan trenutak za oba tima. Navijači se nadaju uzbudljivoj utakmici i dobrom rezultatu za svoj omiljeni klub.
LOCATION:Gradski stadion (Prijedor), Prijedor
STATUS:CONFIRMED
SEQUENCE:0
END:VEVENT
END:VCALENDAR
