BEGIN:VCALENDAR
VERSION:2.0
PRODID:-//Kamo Sutra//Events//EN
CALSCALE:GREGORIAN
METHOD:PUBLISH
BEGIN:VEVENT
DTSTART:20260422T140000
DTEND:20260422T160000
DTSTAMP:20260419T172736
UID:69e51088daa34@kamosutra.ba
SUMMARY:FK Rudar Prijedor - FK Željezničar Sarajevo
DESCRIPTION:FK Rudar Prijedor će ugostiti FK Željezničar Sarajevo na Gradskom stadionu u Prijedoru. Ovaj susret se očekuje s velikim nestrpljenjem, jer se radi o važnoj utakmici za oba tima. Navijači će imati priliku uživati u uzbudljivoj atmosferi i podržati svoje omiljene ekipe. Utakmica je zakazana za 22. aprila 2026. godine.
LOCATION:Gradski stadion (Prijedor), Prijedor
STATUS:CONFIRMED
SEQUENCE:0
END:VEVENT
END:VCALENDAR
