BEGIN:VCALENDAR
VERSION:2.0
PRODID:-//Kamo Sutra//Events//EN
CALSCALE:GREGORIAN
METHOD:PUBLISH
BEGIN:VEVENT
DTSTART:20260502T140000
DTEND:20260502T160000
DTSTAMP:20260421T105733
UID:69e7581dd3f1f@kamosutra.ba
SUMMARY:FK Rudar Prijedor - HŠK Posušje
DESCRIPTION:FK Rudar Prijedor će se suočiti sa HŠK Posušje na Gradskom stadionu u Prijedoru. Ovaj fudbalski susret se održava 2. maja 2026. godine i predstavlja važan događaj za lokalnu zajednicu i ljubitelje sporta. Očekuje se velika posjeta i uzbudljiva atmosfera na stadionu.
LOCATION:Gradski stadion (Prijedor), Prijedor
STATUS:CONFIRMED
SEQUENCE:0
END:VEVENT
END:VCALENDAR
