BEGIN:VCALENDAR
VERSION:2.0
PRODID:-//Kamo Sutra//Events//EN
CALSCALE:GREGORIAN
METHOD:PUBLISH
BEGIN:VEVENT
DTSTART:20260524T140000
DTEND:20260524T160000
DTSTAMP:20260419T190635
UID:69e527bb0ce52@kamosutra.ba
SUMMARY:FK Rudar Prijedor - HŠK Zrinjski Mostar
DESCRIPTION:FK Rudar Prijedor će se suočiti sa HŠK Zrinjski Mostar na Gradskom stadionu u Prijedoru. Ovaj uzbudljivi susret obećava napetu borbu na terenu, gdje će se oba tima truditi da ostvare pobjedu. Utakmica je zakazana za 24.05.2026. godine, a navijači su pozvani da dođu i podrže svoje omiljene timove.
LOCATION:Gradski stadion (Prijedor), Prijedor
STATUS:CONFIRMED
SEQUENCE:0
END:VEVENT
END:VCALENDAR
