BEGIN:VCALENDAR
VERSION:2.0
PRODID:-//Kamo Sutra//Events//EN
CALSCALE:GREGORIAN
METHOD:PUBLISH
BEGIN:VEVENT
DTSTART:20260422T140000
DTEND:20260422T160000
DTSTAMP:20260421T092207
UID:69e741bf5f1f5@kamosutra.ba
SUMMARY:FK Sarajevo - FK Sloga Doboj
DESCRIPTION:FK Sarajevo će se suočiti sa FK Sloga Doboj na Koševo City Stadiumu. Ovaj sportski događaj će se održati 22. aprila 2026. godine. Navijači oba tima će imati priliku da uživaju u uzbudljivoj utakmici koja obećava mnogo uzbuđenja i taktičkih poteza. Očekuje se velika posjeta i podrška sa tribina, a timovi će dati sve od sebe da osvoje tri boda.
LOCATION:Koševo City Stadium, Koševo
STATUS:CONFIRMED
SEQUENCE:0
END:VEVENT
END:VCALENDAR
