BEGIN:VCALENDAR
VERSION:2.0
PRODID:-//Kamo Sutra//Events//EN
CALSCALE:GREGORIAN
METHOD:PUBLISH
BEGIN:VEVENT
DTSTART:20260517T140000
DTEND:20260517T160000
DTSTAMP:20260419T191159
UID:69e528ff4c5f1@kamosutra.ba
SUMMARY:FK Sarajevo - NK Široki Brijeg
DESCRIPTION:FK Sarajevo će se suočiti sa NK Široki Brijeg na Koševo City Stadiumu. Ovaj susret obećava uzbudljivu utakmicu između dva renomirana kluba iz Bosne i Hercegovine. Navijači se pripremaju za spektakl na terenu, a očekuje se velika podrška sa tribina.
LOCATION:Koševo City Stadium, Koševo
STATUS:CONFIRMED
SEQUENCE:0
END:VEVENT
END:VCALENDAR
