BEGIN:VCALENDAR
VERSION:2.0
PRODID:-//Kamo Sutra//Events//EN
CALSCALE:GREGORIAN
METHOD:PUBLISH
BEGIN:VEVENT
DTSTART:20260502T140000
DTEND:20260502T160000
DTSTAMP:20260421T092442
UID:69e7425a5390d@kamosutra.ba
SUMMARY:FK Velež Mostar - FK Radnik Bijeljina
DESCRIPTION:FK Velež Mostar će se suočiti sa FK Radnik Bijeljina na Stadionu Rođeni. Ovaj susret se očekuje s velikim uzbuđenjem među navijačima oba tima. Utakmica će se odigrati 2. maja 2026. godine i predstavlja važan trenutak za oba kluba u borbi za bodove. Navijači su pozvani da dođu i podrže svoje timove u ovom važnom okruženju.
LOCATION:Stadion Rođeni, Mostar
STATUS:CONFIRMED
SEQUENCE:0
END:VEVENT
END:VCALENDAR
