BEGIN:VCALENDAR
VERSION:2.0
PRODID:-//Kamo Sutra//Events//EN
CALSCALE:GREGORIAN
METHOD:PUBLISH
BEGIN:VEVENT
DTSTART:20260422T140000
DTEND:20260422T160000
DTSTAMP:20260419T172526
UID:69e51006bde4c@kamosutra.ba
SUMMARY:FK Velež Mostar - NK Široki Brijeg
DESCRIPTION:FK Velež Mostar i NK Široki Brijeg se susreću na Stadionu Rođeni. Ovaj sportski događaj će se održati 22. aprila 2026. godine. Očekuje se uzbudljiva utakmica između dva rivalna tima iz Bosne i Hercegovine.
LOCATION:Stadion Rođeni
STATUS:CONFIRMED
SEQUENCE:0
END:VEVENT
END:VCALENDAR
