BEGIN:VCALENDAR
VERSION:2.0
PRODID:-//Kamo Sutra//Events//EN
CALSCALE:GREGORIAN
METHOD:PUBLISH
BEGIN:VEVENT
DTSTART:20260423T200000
DTEND:20260423T220000
DTSTAMP:20260423T114317
UID:69ea05d548ef3@kamosutra.ba
SUMMARY:Glazbeni kviz
DESCRIPTION:The House Pub u saradnji sa @hofthestage organizuje sedmo izdanje Glazbenog kviza, koje se održava 23.04.2026. u 20:00 h. Kviz obuhvata različite muzičke kategorije i namijenjen je ekipama koje žele testirati znanje o muzici i usput naučiti nešto novo.\n\nUslovi učešća: kotizacija je 5 KM po igraču, a ekipa može imati najviše 5 igrača. Prijave se primaju na broj 063/804-123 ili putem inboxa stranica (potrebno je navesti naziv ekipe i broj igrača).\n\nNagrade: 1. mjesto – 150 KM; 2. mjesto – House bon 50 KM; 3. mjesto – gajba Ožujskog piva; 4. mjesto – boca Antique pelinkovca; 5. mjesto – House bon 25 KM; te tura pića za predzadnje mjesto.
LOCATION:The House Pub, Mostar
STATUS:CONFIRMED
SEQUENCE:0
END:VEVENT
END:VCALENDAR
