BEGIN:VCALENDAR
VERSION:2.0
PRODID:-//Kamo Sutra//Events//EN
CALSCALE:GREGORIAN
METHOD:PUBLISH
BEGIN:VEVENT
DTSTART:20260422T140000
DTEND:20260422T160000
DTSTAMP:20260419T172901
UID:69e510dd44d6a@kamosutra.ba
SUMMARY:HŠK Posušje - FK Radnik Bijeljina
DESCRIPTION:HŠK Posušje će se suočiti sa FK Radnik Bijeljina na Mokrom Dolcu. Ovaj sportski događaj će se održati 22. aprila 2026. godine. Navijači su pozvani da dođu i podrže svoje timove u ovom uzbudljivom okruženju. Očekuje se velika posjeta i uzbudljiva atmosfera na stadionu.
LOCATION:Mokri Dolac Stadium, Mokri Dolac
STATUS:CONFIRMED
SEQUENCE:0
END:VEVENT
END:VCALENDAR
