BEGIN:VCALENDAR
VERSION:2.0
PRODID:-//Kamo Sutra//Events//EN
CALSCALE:GREGORIAN
METHOD:PUBLISH
BEGIN:VEVENT
DTSTART:20260524T140000
DTEND:20260524T160000
DTSTAMP:20260421T110257
UID:69e75961ceb2f@kamosutra.ba
SUMMARY:HŠK Posušje - FK Sloga Doboj
DESCRIPTION:HŠK Posušje će se suočiti sa FK Sloga Doboj na Mokrom Dolcu. Ovaj sportski događaj se održava 24. maja 2026. godine. Navijači su pozvani da dođu i podrže svoje omiljene timove. Očekuje se uzbudljiva utakmica sa mnogo akcije na terenu.
LOCATION:Mokri Dolac Stadium, Mokri Dolac
STATUS:CONFIRMED
SEQUENCE:0
END:VEVENT
END:VCALENDAR
