BEGIN:VCALENDAR
VERSION:2.0
PRODID:-//Kamo Sutra//Events//EN
CALSCALE:GREGORIAN
METHOD:PUBLISH
BEGIN:VEVENT
DTSTART:20260502T140000
DTEND:20260502T160000
DTSTAMP:20260421T092402
UID:69e74232c2952@kamosutra.ba
SUMMARY:HŠK Zrinjski Mostar - FK Željezničar Sarajevo
DESCRIPTION:HŠK Zrinjski Mostar i FK Željezničar Sarajevo se susreću na Stadionu pod Bijelim Brijegom u Mostaru. Ovaj derbi je uvijek pun uzbuđenja i strasti, a navijači oba tima jedva čekaju da vide svoje omiljene igrače na terenu. Utakmica se igra 2. maja 2026. godine, a očekuje se veliki broj posjetitelja koji će doći podržati svoje timove. Ovaj događaj je prilika za sve ljubitelje fudbala da uživaju u vrhunskom sportu i atmosferi koja se stvara na stadionu.
LOCATION:Stadion pod Bijelim Brijegom, Mostar
STATUS:CONFIRMED
SEQUENCE:0
END:VEVENT
END:VCALENDAR
