BEGIN:VCALENDAR
VERSION:2.0
PRODID:-//Kamo Sutra//Events//EN
CALSCALE:GREGORIAN
METHOD:PUBLISH
BEGIN:VEVENT
DTSTART:20260426T110000
DTEND:20260426T130000
DTSTAMP:20260419T140543
UID:69e4e1370e113@kamosutra.ba
SUMMARY:KARIUS I BAKTUS 26/04
DESCRIPTION:Predstava „Karius i Baktus“ bit će izvedena 26.04.2026. u Pozorištu mladih Sarajevo. Riječ je o dječijoj predstavi koja na zabavan i uzrastu primjeren način govori o važnosti oralne higijene i navikama pranja zuba od najranijih godina.\n\nPredstava je nastala u koprodukciji Centra kulture i mladih Općine Centar i Udruženja dramskih glumaca Mundo Mondo, po motivima istoimenih ilustriranih likova norveškog autora Thorbjørna Egnera, a prema dramatizaciji i u režiji Maria Drmaća. Glavni likovi Karius i Baktus, čija imena asociraju na karijes i bakterije, žive u ustima djevojčice Maje i uživaju kada ona jede slatkiše bez pranja zuba. Njihova „idila“ prestaje kada Maja ode zubaru i počne voditi adekvatnu brigu o zubima.\n\nU predstavi igraju Alma Merunka, Adis Omerović i Armin Omerović. Autorski tim čine scenografi Mediha Džambegović i Adis Karišik, kostimograf Vanja Ciraj, koreograf Belma Čečo-Bakrač, autor muzike Karlo Wittmann, šminkerica Maja Talović te dizajner vizuala Almir Gusić.
LOCATION:Pozorište mladih Sarajevo, Sarajevo
STATUS:CONFIRMED
SEQUENCE:0
END:VEVENT
END:VCALENDAR
