BEGIN:VCALENDAR
VERSION:2.0
PRODID:-//Kamo Sutra//Events//EN
CALSCALE:GREGORIAN
METHOD:PUBLISH
BEGIN:VEVENT
DTSTART:20260417T200000
DTEND:20260417T220000
DTSTAMP:20260421T091627
UID:69e7406b8aa93@kamosutra.ba
SUMMARY:Mak Grgić – koncert u Sarajevu
DESCRIPTION:U okviru Sarajevo International Guitar Festival, sarajevskoj publici predstavit će se gitarista Mak Grgić, jedan od istaknutih savremenih umjetnika na međunarodnoj muzičkoj sceni.\n\n\n\nGrgić je poznat po svojoj tehničkoj virtuoznosti i interpretativnoj širini, a njegov repertoar obuhvata djela različitih stilskih perioda, od klasične literature do savremenih kompozicija. Tokom svoje karijere nastupao je na brojnim svjetskim pozornicama, gdje je stekao priznanje publike i stručne javnosti.\n\n\n\nNjegovi koncerti odlikuju se preciznošću izvedbe i izraženim osjećajem za muzičku formu, čime uspijeva ostvariti snažan kontakt sa publikom. Upravo takav pristup čini njegove nastupe posebnim iskustvom za ljubitelje klasične gitare.\n\n\n\nKoncert će biti održan u prostoru Umjetničke galerije Bosne i Hercegovine, koji svojim ambijentom pruža idealne uslove za izvođenje ovakvog tipa muzičkog programa.
LOCATION:Umjetnička galerija Bosne i Hercegovine, Sarajevo
STATUS:CONFIRMED
SEQUENCE:0
END:VEVENT
END:VCALENDAR
