BEGIN:VCALENDAR
VERSION:2.0
PRODID:-//Kamo Sutra//Events//EN
CALSCALE:GREGORIAN
METHOD:PUBLISH
BEGIN:VEVENT
DTSTART:20260512T200000
DTEND:20260512T220000
DTSTAMP:20260419T151211
UID:69e4f0cb585fb@kamosutra.ba
SUMMARY:ONE STVARI - Mićko Ljubičić - TUZLA 12/05
DESCRIPTION:U Bosanskom kulturnom centru Tuzla (BKC - TUZLA) 12.05.2026. u 20:00 sati premijerno u Bosni i Hercegovini gostuje hit predstava “One stvari” u izvođenju Dragoljuba Mićka Ljubičića. Publiku očekuje večer fantastičnog humora i satire, uz Mićkov prepoznatljiv stil, inteligentan humor i briljantne transformacije likova kroz niz situacija u kojima će se mnogi prepoznati. “One stvari” bave se temama o kojima svi pričamo, ali tek kada se svjetla reflektora ugase, a predstava se opisuje i kao svojevrsna (smjeho)terapija nakon koje publika izlazi zadovoljna i nasmijana. Mićko Ljubičić je višestruko talentovan umjetnik – glumac, imitator, narator, pjevač i muzičar, pisac i scenarista – a ovaj nastup u Tuzli dio je turneje koja uključuje i Mostar (11.05.2026.) te Sarajevo (14.05.2026.). Produkciju potpisuju GMR d.o.o. i konzilijum TRIO MEDIA, uz radijski pokrovitelj HIT FM i prijatelja projekta Stomatološku ordinaciju “Dr Tarik Ramović”.
LOCATION:BKC - TUZLA, Tuzla
STATUS:CONFIRMED
SEQUENCE:0
END:VEVENT
END:VCALENDAR
