BEGIN:VCALENDAR
VERSION:2.0
PRODID:-//Kamo Sutra//Events//EN
CALSCALE:GREGORIAN
METHOD:PUBLISH
BEGIN:VEVENT
DTSTART:20260422T200000
DTEND:20260422T220000
DTSTAMP:20260421T125316
UID:69e7733c1bdd8@kamosutra.ba
SUMMARY:Opći kviz u Charlie Bar & Snacku
DESCRIPTION:Charlie Bar & Snack organizuje opći kviz u srijedu, 22.04.2026. s početkom u 20:00. Ekipe mogu imati od 2 do 5 članova, a kotizacija iznosi 20 KM po ekipi. Predviđene su nagrade: 1. mjesto 150 KM; 2. mjesto Golden Pub plata + boca vina; 3. mjesto jumbo pizza + gratis kotizacija za idući put; “zlatna sredina” i predzadnje mjesto osvajaju turu pića za ekipu; nasumično se nagrađuju i dvije ekipe po 50 KM. Prijava ekipe je putem linka u opisu Instagram profila.
LOCATION:Charlie Bar & Snack, Mostar
STATUS:CONFIRMED
SEQUENCE:0
END:VEVENT
END:VCALENDAR
