BEGIN:VCALENDAR
VERSION:2.0
PRODID:-//Kamo Sutra//Events//EN
CALSCALE:GREGORIAN
METHOD:PUBLISH
BEGIN:VEVENT
DTSTART:20260420T200000
DTEND:20260420T220000
DTSTAMP:20260423T115127
UID:69ea07bfc9c64@kamosutra.ba
SUMMARY:Pedro Mateo González
DESCRIPTION:U okviru Sarajevo International Guitar Festival, sarajevskoj publici predstavit će se gitarista Pedro Mateo González, umjetnik čiji je rad usmjeren ka interpretaciji klasične gitarske literature.\n\n\n\nNjegov muzički izraz karakterišu tehnička preciznost, jasno oblikovana interpretacija i posvećenost zvuku, što ga svrstava među zapažene izvođače savremene gitarske scene. Kroz koncertne nastupe, González razvija repertoar koji obuhvata djela različitih stilskih razdoblja, s naglaskom na interpretativnu dosljednost i izražajnu ravnotežu.\n\n\n\nPublika će imati priliku čuti pažljivo koncipiran program koji naglašava mogućnosti gitare kao solističkog instrumenta, uz akcenat na muzičku izražajnost i umjetnički pristup.\n\n\n\nKoncert će biti održan u prostoru Umjetničke galerije Bosne i Hercegovine, koji svojim ambijentom pruža odgovarajući okvir za izvođenje klasične muzike i omogućava neposredan doživljaj koncertnog programa.
LOCATION:Umjetnička galerija Bosne i Hercegovine, Sarajevo
STATUS:CONFIRMED
SEQUENCE:0
END:VEVENT
END:VCALENDAR
