BEGIN:VCALENDAR
VERSION:2.0
PRODID:-//Kamo Sutra//Events//EN
CALSCALE:GREGORIAN
METHOD:PUBLISH
BEGIN:VEVENT
DTSTART:20260414T183000
DTEND:20260414T203000
DTSTAMP:20260419T142320
UID:69e4e55854740@kamosutra.ba
SUMMARY:Rega Meet Up: prostor za susret, ideje i nove saradnje
DESCRIPTION:U Sarajevu će 14. aprila biti održan prvi Rega Meet Up, događaj koji okuplja članove Rega Kolektiv, ali i sve zainteresovane za savremenu muzičku i kreativnu scenu.\n\n\n\nRega Meet Up zamišljen je kao neformalni prostor za upoznavanje, razmjenu ideja i povezivanje ljudi sličnih interesa. Fokus događaja nije na klasičnom programu, već na direktnoj komunikaciji i stvaranju novih saradnji među učesnicima.\n\n\n\nDogađaj je otvoren za muzičare, producente, izvođače i kreativce iz različitih oblasti, kao i za sve one koji žele biti dio zajednice koja se aktivno razvija.Broj mjesta je ograničen, pa je za učešće potrebna prijava putem linka:👉 https://rega.ba/meet-up/
LOCATION:Centar za Mlade Grbavica, Sarajevo
STATUS:CONFIRMED
SEQUENCE:0
END:VEVENT
END:VCALENDAR
