BEGIN:VCALENDAR
VERSION:2.0
PRODID:-//Kamo Sutra//Events//EN
CALSCALE:GREGORIAN
METHOD:PUBLISH
BEGIN:VEVENT
DTSTART:20260604T170000
DTEND:20260604T190000
DTSTAMP:20260419T160918
UID:69e4fe2e24f31@kamosutra.ba
SUMMARY:Rocket football academy by Ivan Rakitić
DESCRIPTION:Rocket Football Academy by Ivan Rakitić je nogometna akademija/kamp za djecu i mlade uzrasta od 6 do 15 godina, koja se održava od 04.06.2026. do 07.06.2026. na Stadionu NK Nova Bila u Travniku. Program je osmišljen kao intenzivno nogometno iskustvo pod vodstvom Ivana Rakitića i profesionalnih trenera, s fokusom na razvoj tehnike, igre i individualni napredak svakog polaznika.\n\nTreninzi su organizovani u dva dnevna termina: jutarnji (09:00–10:30 i 10:30–12:00) i popodnevni (18:00–19:30 i 19:30–21:00). Kotizacija iznosi 400 KM po djetetu i uključuje profesionalne treninge, individualni pristup, intenzivne treninge, radionice i predavanja, video analizu i praćenje razvoja, kao i kompletnu adidas opremu (poklon vrećica, dres i hlačice za trening te štucne). Nakon kupovine vouchera/ulaznice potrebno je poslati e-mail sa podacima djeteta (ime i prezime, adresa, e-mail, kontakt telefon i veličina opreme) na team@rocketfootballacademy.com.
LOCATION:Stadion NK Nova Bila , Travnik, Travnik
STATUS:CONFIRMED
SEQUENCE:0
END:VEVENT
END:VCALENDAR
