BEGIN:VCALENDAR
VERSION:2.0
PRODID:-//Kamo Sutra//Events//EN
CALSCALE:GREGORIAN
METHOD:PUBLISH
BEGIN:VEVENT
DTSTART:20260425T220000
DTEND:20260426T000000
DTSTAMP:20260421T124448
UID:69e77140abb81@kamosutra.ba
SUMMARY:Saturday Party
DESCRIPTION:Saturday Party uz DJ FSHR održava se u COCO LOCO Mostar u subotu, 25.04.2026. Start je u 22:00, a zabava traje do 03:00. Očekuje vas klupska noć uz plesnu muziku (disco, pop, tech house, techno i EDM) i party atmosfera u centru Mostara.
LOCATION:COCO LOCO Mostar, Mostar
STATUS:CONFIRMED
SEQUENCE:0
END:VEVENT
END:VCALENDAR
