BEGIN:VCALENDAR
VERSION:2.0
PRODID:-//Kamo Sutra//Events//EN
CALSCALE:GREGORIAN
METHOD:PUBLISH
BEGIN:VEVENT
DTSTART:20260421T120000
DTEND:20260421T140000
DTSTAMP:20260421T125113
UID:69e772c126a6c@kamosutra.ba
SUMMARY:Sedmica njemačkog filma
DESCRIPTION:Od 21. do 25. aprila u Mostaru se održava “Sedmica njemačkog filma”, u organizaciji Goethe-Instituta i Omladinskog kulturnog centra Abrašević, u okviru programa „Otpor i otpornost“. Događaj donosi projekcije njemačkih filmova za mostarsku publiku.
LOCATION:Omladinski kulturni centar Abrašević, Mostar
STATUS:CONFIRMED
SEQUENCE:0
END:VEVENT
END:VCALENDAR
