BEGIN:VCALENDAR
VERSION:2.0
PRODID:-//Kamo Sutra//Events//EN
CALSCALE:GREGORIAN
METHOD:PUBLISH
BEGIN:VEVENT
DTSTART:20260417T200000
DTEND:20260417T220000
DTSTAMP:20260421T110533
UID:69e759fd484e9@kamosutra.ba
SUMMARY:SELO MOJE LJEPŠE OD PARIZA - GRADIŠKA 17/04
DESCRIPTION:Predstava 'Selo moje ljepše od Pariza' će se održati 17. aprila 2026. godine u Kulturnom centru u Gradišci. Ova urnebesna komedija donosi priču o Bosancu i Francuskinji koji dolaze u njegovo rodno selo. On se vraća kući, dok ona doživljava kulturološki šok. Predstava istražuje pitanje može li ljubav preživjeti bez gradskog luksuza i asfalta. Ne propustite ovu komediju koja garantuje smijeh do suza!
LOCATION:KULTURNI CENTAR, Gradiška
STATUS:CONFIRMED
SEQUENCE:0
END:VEVENT
END:VCALENDAR
