BEGIN:VCALENDAR
VERSION:2.0
PRODID:-//Kamo Sutra//Events//EN
CALSCALE:GREGORIAN
METHOD:PUBLISH
BEGIN:VEVENT
DTSTART:20260506T200000
DTEND:20260506T220000
DTSTAMP:20260419T151849
UID:69e4f259e1cf5@kamosutra.ba
SUMMARY:Stand-up show - Nezavisan - Andrija Dabanović - ZENICA
DESCRIPTION:Stand-up show "Nezavisan" komičara Andrije Dabanovića održava se 06.05.2026. u 20:00 u Bosanskom narodnom pozorištu Zenica (BNP Zenica), Zenica. Predstava govori o Andrijinom odlasku iz male sredine i preseljenju u veću, te o njegovoj želji da dokaže kako je postao „nezavisan“, iako zapravo uviđa da je sada zavisan od mnogih drugih faktora. Kroz humor istražuje i granice bolesti zavisnosti, postavljajući pitanje da li je osoba koja apstinira i suzdržava se od nečega zapravo zavisna ili nezavisna. Organizatori pozivaju publiku da ne propusti večer smijeha, kvalitetnog humora i dobre zabave. Produkciju potpisuje Trio Media, a radijski pokrovitelj je HIT FM. U sklopu turneje, show se izvodi i u Sarajevu (Dom mladih, 05.05.2026. u 20:00) te u Mostaru (HD Herceg Stjepan Kosača, 07.05.2026. u 20:00).
LOCATION:BNP ZENICA, Zenica
STATUS:CONFIRMED
SEQUENCE:0
END:VEVENT
END:VCALENDAR
