BEGIN:VCALENDAR
VERSION:2.0
PRODID:-//Kamo Sutra//Events//EN
CALSCALE:GREGORIAN
METHOD:PUBLISH
BEGIN:VEVENT
DTSTART:20260426T120000
DTEND:20260426T140000
DTSTAMP:20260423T133958
UID:69ea212e063b8@kamosutra.ba
SUMMARY:Stand up u The House Pub-u (Neša Bridžis)
DESCRIPTION:Stand up večer održava se u nedjelju, 26.04.2026. u The House Pub-u. Kao gost nastupa Neša Bridžis. Dobrodošli na večer stand up komedije u opuštenoj atmosferi.
LOCATION:The House Pub
STATUS:CONFIRMED
SEQUENCE:0
END:VEVENT
END:VCALENDAR
