BEGIN:VCALENDAR
VERSION:2.0
PRODID:-//Kamo Sutra//Events//EN
CALSCALE:GREGORIAN
METHOD:PUBLISH
BEGIN:VEVENT
DTSTART:20260813T180000
DTEND:20260813T200000
DTSTAMP:20260421T124330
UID:69e770f21f8f5@kamosutra.ba
SUMMARY:The Prodigy
DESCRIPTION:The Prodigy stiže u Sarajevo, gdje će 13. augusta nastupiti na stadionu Grbavica u okviru jednog od najvećih muzičkih događaja ljeta.\n\n\n\nBend koji je obilježio razvoj savremene elektronske muzike kroz spoj elektronike, rocka i breakbeata dolazi pred domaću publiku s prepoznatljivim live nastupom koji je kroz godine postao sinonim za intenzivnu energiju i snažnu atmosferu.\n\n\n\nKoncert na Grbavici donosi priliku za susret s muzikom koja je obilježila generacije, ali i iskustvo koje nadilazi standardni koncertni format. Očekuje se događaj velikog produkcijskog obima i značajan interes publike iz zemlje i regiona.Pretprodaja ulaznica ekskluzivno za korisnike Visa kartica počinje 16. aprila u 12 sati. Redovna prodaja za sve ostale kupce kreće 18. aprila u 12h.Ulaznice možete kupiti na: Ulaznica | The Prodigy
LOCATION:Stadion Grbavica, Sarajevo
STATUS:CONFIRMED
SEQUENCE:0
END:VEVENT
END:VCALENDAR
