BEGIN:VCALENDAR
VERSION:2.0
PRODID:-//Kamo Sutra//Events//EN
CALSCALE:GREGORIAN
METHOD:PUBLISH
BEGIN:VEVENT
DTSTART:20260421T203000
DTEND:20260421T223000
DTSTAMP:20260421T124911
UID:69e77247e705b@kamosutra.ba
SUMMARY:Večer vina & meze
DESCRIPTION:U Charlie Bar & Snack u utorak, 21.04. organizuje se “Večer vina & meze” uz dobro društvo, kvalitetno vino i mezu. Za muzički ugođaj zadužen je tamburaški sastav Ero, koji nastupa uživo. Uz svaku naručenu butelju vina, meza je uključena gratis. Događaj počinje u 20:30.
LOCATION:Charlie Bar & Snack, Mostar
STATUS:CONFIRMED
SEQUENCE:0
END:VEVENT
END:VCALENDAR
