BEGIN:VCALENDAR
VERSION:2.0
PRODID:-//Kamo Sutra//Events//EN
CALSCALE:GREGORIAN
METHOD:PUBLISH
BEGIN:VEVENT
DTSTART:20260422T200000
DTEND:20260422T220000
DTSTAMP:20260421T124702
UID:69e771c689661@kamosutra.ba
SUMMARY:Viking Pub Quiz TRIVIA
DESCRIPTION:Viking Pub Quiz TRIVIA je kviz općeg znanja koji se održava u srijedu, 22.04. u 20:00 u Viking Pubu na adresi Hamdije Kreševljakovića 61 u Sarajevu. Organizatori najavljuju drugačije kviz iskustvo i pozivaju zainteresovane da dođu i učestvuju u druženju uz pitanja iz općeg znanja.
LOCATION:Hamdije Kreševljakovića 61, Viking Pub Sarajevo, Sarajevo
STATUS:CONFIRMED
SEQUENCE:0
END:VEVENT
END:VCALENDAR
