BEGIN:VCALENDAR
VERSION:2.0
PRODID:-//Kamo Sutra//Events//EN
CALSCALE:GREGORIAN
METHOD:PUBLISH
BEGIN:VEVENT
DTSTART:20260424T200000
DTEND:20260424T220000
DTSTAMP:20260419T161313
UID:69e4ff19444a4@kamosutra.ba
SUMMARY:VINČA: KOMEDIJA JE OZBILJNA STVAR
DESCRIPTION:Komedija je ozbiljna stvar: Vinča najavljuje treći samostalni show koji će se održati 24.04.2026. godine u 20 sati u KIC-u Tomislavgrad. Ulaznica košta 20 KM, a prodaja ulaznica je dostupna na blagajni KIC-a i putem platforme Event.ba. Goran Vinčić Vinča, jedan od najtraženijih stand-up komičara u regiji, vraća se s novim materijalom koji se bavi savremenim društvenim pitanjima kroz humor. U ovom showu, Vinča se vraća oštriji i zabavniji nego ikad, secirajući savremeni svijet i otvarajući teme koje se često guraju pod tepih. Njegov novi materijal donosi smijeh koji oslobađa, ali i ozbiljna pitanja o društvenim nepravdama.
LOCATION:KIC , Tomislavgrad, Tomislavgrad
STATUS:CONFIRMED
SEQUENCE:0
END:VEVENT
END:VCALENDAR
