BEGIN:VCALENDAR
VERSION:2.0
PRODID:-//Kamo Sutra//Events//EN
CALSCALE:GREGORIAN
METHOD:PUBLISH
BEGIN:VEVENT
DTSTART:20260425T200000
DTEND:20260425T220000
DTSTAMP:20260423T153459
UID:69ea3c2321bee@kamosutra.ba
SUMMARY:VINČA - KOMEDIJA JE OZBILJNA STVAR
DESCRIPTION:U Bugojnu će se 25. aprila 2026. godine održati treći samostalni show jednog od najtraženijih stand-up komičara u regiji, Gorana Vinčića Vinče. Show pod nazivom "Komedija je ozbiljna stvar" će se održati u KSC Pozorišnoj sali s početkom u 20 sati. Ulaznice su dostupne po cijeni od 20 KM, a mogu se kupiti na blagajni KSC Bugojno i putem platforme Event.ba. Vinča se vraća s novim materijalom koji se bavi savremenim društvenim temama kroz humor. Njegov novi show istražuje medijski haos, društvene apsurde i generacijske sukobe, a sve to kroz prizmu komedije koja postaje ozbiljna stvar. Vinča poziva sve da dođu i uživaju u njegovim šalama koje će obuhvatiti razne teme, uključujući i one koje se često izbjegavaju.
LOCATION:KSC, Bugojno
STATUS:CONFIRMED
SEQUENCE:0
END:VEVENT
END:VCALENDAR
