BEGIN:VCALENDAR
VERSION:2.0
PRODID:-//Kamo Sutra//Events//EN
CALSCALE:GREGORIAN
METHOD:PUBLISH
BEGIN:VEVENT
DTSTART:20260424T220000
DTEND:20260425T000000
DTSTAMP:20260423T140201
UID:69ea26594782f@kamosutra.ba
SUMMARY:Whispers of Wonder
DESCRIPTION:U Clubu 17 se vraća plesni performans „Whispers of Wonder“, najavljen kao jedan od najgledanijih nastupa u ovom klubu. Večer donosi spoj ritma, pokreta i snažne energije, uz atmosferu u kojoj scena oživljava i intenzitet raste iz trenutka u trenutak. Događaj je zakazan za petak, 24.04.2026. s početkom u 22:00 u prostoru Club 17.
LOCATION:Club 17
STATUS:CONFIRMED
SEQUENCE:0
END:VEVENT
END:VCALENDAR
