BEGIN:VCALENDAR
VERSION:2.0
PRODID:-//Kamo Sutra//Events//EN
CALSCALE:GREGORIAN
METHOD:PUBLISH
BEGIN:VEVENT
DTSTART:20260603T100000
DTEND:20260603T120000
DTSTAMP:20260419T173127
UID:69e5116f1c806@kamosutra.ba
SUMMARY:XIV sportsko rekreativni susreti Sindikata uprave Republike Srpske
DESCRIPTION:XIV sportsko rekreativni susreti Sindikata uprave Republike Srpske održaće se 3. juna 2026. godine sa početkom u 10:00 časova na adresi Mladena Stojanovića 43, u Banjoj Luci. Ovaj tradicionalni događaj okuplja članove sindikata iz raznih krajeva kako bi se kroz sport i druženje jačao timski duh i promovisao zdrav način života. Takmičenja se održavaju u više sportskih disciplina uključujući mali fudbal, odbojku, pikado, šah i druge rekreativne igre. Osim sportskog programa, učesnicima će biti obezbijeđeni i sadržaji za relaksaciju i zabavu. Susreti predstavljaju priliku za razmjenu iskustava, povezivanje zaposlenih iz različitih ustanova i podsticanje solidarnosti unutar sindikalne zajednice. Pozivaju se svi članovi i simpatizeri da svojim prisustvom podrže ovu manifestaciju i doprinesu njenom uspjehu. Dobrodošli na dan zajedništva, sporta i prijateljstva u srcu Banje Luke!
LOCATION:Mladena Stojanovića 43, Banja Luka
STATUS:CONFIRMED
SEQUENCE:0
END:VEVENT
END:VCALENDAR
